BEGIN:VCALENDAR
VERSION:2.0
PRODID:-//Uncommon Adventures - ECPv6.15.20//NONSGML v1.0//EN
CALSCALE:GREGORIAN
METHOD:PUBLISH
X-ORIGINAL-URL:https://mi-paddleadventure.com
X-WR-CALDESC:Events for Uncommon Adventures
REFRESH-INTERVAL;VALUE=DURATION:PT1H
X-Robots-Tag:noindex
X-PUBLISHED-TTL:PT1H
BEGIN:VTIMEZONE
TZID:UTC
BEGIN:STANDARD
TZOFFSETFROM:+0000
TZOFFSETTO:+0000
TZNAME:UTC
DTSTART:20210101T000000
END:STANDARD
END:VTIMEZONE
BEGIN:VEVENT
DTSTART;TZID=UTC:20250528T090000
DTEND;TZID=UTC:20250528T160000
DTSTAMP:20260423T043623
CREATED:20220318T203825Z
LAST-MODIFIED:20250306T132150Z
UID:3045-1748422800-1748448000@mi-paddleadventure.com
SUMMARY:ACA Coastal Kayaking: Level 2 Skills Training Day
DESCRIPTION:This 9-4 pm workshop is designed to give people an intensive one day experience working on efficient strokes\, kayak maneuvering along with self and group rescues. Risk management\, kayaking safety gear\, basic weather and basic trip planning will also be covered. It is an ideal day spent to prepare for the L2 Instructor course to improve your odds of passing at your highest level. \nPlease come prepared with lunch\, drinking water and appropriate clothing for immersion: quick dry layers (no cotton)\, a wetsuit if you have it and any kayaking gear of your own. Meet up by 9 am at 6721 Grace Road\, Benzonia\, 49616. \nLearn more about ACA Instructor Training Course and Levels. \nPrerequisites\nBasic forward strokes\, wet exits and ACA membership.\n \nDates for 2025\nMay 28\, 9AM – 4PM \nWhat’s Included\n\nThe course fee includes ACA L-4\, BCU Coach Instructor\, kayak and all necessary gear. (e.g.\, 15′ + sea kayak with floatation fore and aft\, paddle\, pump\, sprayskirt)\n\nWhat’s Not Included and What You Should Bring \n\nTransportation to the site\nFarmer John/Jane style wetsuit: for May/June/September/October\, can be rented from us for a flat rate of $20. Drysuit if you have one.\nSynthetic or wool long underwear: polypropylene\, polyester\, coolmax\, etc….anything but cotton\, both tops and bottoms\, can be worn under shorts too for a very comfortable if not very stylish ensemble.\nFleece jacket\nPaddling jacket or rain parka.\nNeoprene boots: We try to discourage sandals because they can get tangled in footrests….and that’s bad if you’re upside down.\nSunscreen\nSunhat\nReusable water bottle — please DO NOT bring single use plastic water bottles.\nLunch supplies\nSnacks\n\n\n \n\n\nRegistration\n \n\nNOTE: If a booking date shows on the calendar below\, there is space available but always feel free to call or email with specific questions. If the trip is full and you’d like to be waitlisted\, give us a call.  \nReservations are held with payment. The price below reflects the full amount\, including service fees. \nNOTE: You must choose the date of the trip you want before clicking on BOOK NOW. Be sure you are on the right month!  \n\n\nView our Refund / Cancellation Policy\nView our COVID Risk Management Statement
URL:https://mi-paddleadventure.com/trip/aca-coastal-kayaking-level-2-skills-training-day/
LOCATION:Uncommon Adventures\, Street Address: 6721 Grace Rd\, Benzonia\, MI\, 49616\, United States
CATEGORIES:Day Trips,Great Lakes,Kayak Instruction
ATTACH;FMTTYPE=image/jpeg:https://mi-paddleadventure.com/wp-content/uploads/jeremy-vore-instruction-7.jpg
ORGANIZER;CN="Uncommon Adventures":MAILTO:email
END:VEVENT
BEGIN:VEVENT
DTSTART;TZID=UTC:20230524T080000
DTEND;TZID=UTC:20230524T170000
DTSTAMP:20260423T043623
CREATED:20230208T193022Z
LAST-MODIFIED:20230209T155913Z
UID:3469-1684915200-1684947600@mi-paddleadventure.com
SUMMARY:Paddlesport Safety Facilitator (PSF) Certification
DESCRIPTION:This 9 a.m. to 5 p.m. workshop is designed to prepare Paddlesports Safety Facilitators (PSF) with the ability to manage groups\, have background knowledge of paddling safety and environmental hazards\, and the ability to effectively maneuver their craft in order to perform and demonstrate competent rescue techniques. This certification allows the facilitator to introduce paddlecraft safety and knowledge to the beginner paddler in a land-based setting. PSF General\, Canoe\, and Kayaking modules will be delivered. This is a 4-year\, non-renewable certification.    \nPlease come prepared with lunch\, drinking water and appropriate clothing for immersion: quick dry layers (no cotton)\, a wetsuit if you have it and any kayaking gear of your own. Meet up by 8:30 am at Camp Torenta on Lake Mitchell in Cadillac\, Michigan. \nLearn more about ACA Paddlesports Safety Facilitator. \nCourse Prerequisites\n• All participants must acknowledge personal compliance with the ACA Essential Eligibility Criteria (EEC)\n • Be a current ACA Member  \n \nDates for 2023\nMay 23\, 9AM – 5PM \nMay 24\, 9AM – 5PM \n\n \n\n\n\nRegistration \n[contentblock id=reg-full]
URL:https://mi-paddleadventure.com/trip/paddlesport-safety-facilitator-psf-certification-2/
LOCATION:Camp Torenta\, Cadillac\, MI\, 9845 Campus Dr.\, Cadillac\, MI\, 49601\, United States
CATEGORIES:Day Trips,Great Lakes,Kayak Instruction
ATTACH;FMTTYPE=image/jpeg:https://mi-paddleadventure.com/wp-content/uploads/kayaksatwmcka.jpg
END:VEVENT
BEGIN:VEVENT
DTSTART;TZID=UTC:20230523T080000
DTEND;TZID=UTC:20230523T170000
DTSTAMP:20260423T043623
CREATED:20230208T192137Z
LAST-MODIFIED:20230209T160003Z
UID:3462-1684828800-1684861200@mi-paddleadventure.com
SUMMARY:Paddlesport Safety Facilitator (PSF) Certification
DESCRIPTION:This 9 a.m. to 5 p.m. workshop is designed to prepare Paddlesports Safety Facilitators (PSF) with the ability to manage groups\, have background knowledge of paddling safety and environmental hazards\, and the ability to effectively maneuver their craft in order to perform and demonstrate competent rescue techniques. This certification allows the facilitator to introduce paddlecraft safety and knowledge to the beginner paddler in a land-based setting. PSF General\, Canoe\, and Kayaking modules will be delivered. This is a 4-year\, non-renewable certification.    \nPlease come prepared with lunch\, drinking water and appropriate clothing for immersion: quick dry layers (no cotton)\, a wetsuit if you have it and any kayaking gear of your own. Meet up by 8:30 am at Camp Torenta on Lake Mitchell in Cadillac\, Michigan. \nLearn more about ACA Paddlesports Safety Facilitator. \nCourse Prerequisites\n• All participants must acknowledge personal compliance with the ACA Essential Eligibility Criteria (EEC)\n • Be a current ACA Member  \n \nDates for 2023\nMay 23\, 9AM – 5PM \nMay 24\, 9AM – 5PM \n\n \n\n\n\nRegistration \n[contentblock id=reg-full]
URL:https://mi-paddleadventure.com/trip/paddlesport-safety-facilitator-psf-certification/
LOCATION:MI
CATEGORIES:Day Trips,Great Lakes,Kayak Instruction
ATTACH;FMTTYPE=image/jpeg:https://mi-paddleadventure.com/wp-content/uploads/kayaksatwmcka.jpg
END:VEVENT
BEGIN:VEVENT
DTSTART;TZID=UTC:20230522T080000
DTEND;TZID=UTC:20230522T170000
DTSTAMP:20260423T043623
CREATED:20230208T182536Z
LAST-MODIFIED:20230209T151353Z
UID:3457-1684742400-1684774800@mi-paddleadventure.com
SUMMARY:ACA Coastal Kayaking: Level 1 Skills Training Day
DESCRIPTION:This 9 a.m. to 5 p.m. workshop is designed to give people an intensive one day experience to broaden their on-water kayak skills and make them a safer paddler. We will work on building efficient strokes\, kayak maneuvering along with group rescues. Basic kayaking safety gear\, paddling gear\, and handling your kayak will be covered. It is an ideal day spent to prepare for the Paddlesport Safety Facilitator certification and the Community Paddlesport Leader. \nPlease come prepared with lunch\, drinking water and appropriate clothing for immersion: quick dry layers (no cotton)\, a wetsuit if you have it and any kayaking gear of your own. Meet up by 8:30 am at Camp Torenta on Lake Mitchell in Cadillac\, Michigan. \nLearn more about ACA Instructor Training Course and Levels. \nPrerequisites\nBasic forward strokes\, wet exits and ACA membership.\n \n \nDates for 2023\nMay 22\, 9AM – 4PM \n\n \n\n\n\nRegistration \n[contentblock id=reg-full]
URL:https://mi-paddleadventure.com/trip/aca-coastal-kayaking-level-1-skills-training-day/
LOCATION:Camp Torenta\, Cadillac\, MI\, 9845 Campus Dr.\, Cadillac\, MI\, 49601\, United States
CATEGORIES:Day Trips,Great Lakes,Kayak Instruction
ATTACH;FMTTYPE=image/jpeg:https://mi-paddleadventure.com/wp-content/uploads/aisling-instr2.jpg
END:VEVENT
BEGIN:VEVENT
DTSTART;VALUE=DATE:20220526
DTEND;VALUE=DATE:20220527
DTSTAMP:20260423T043623
CREATED:20211025T204012Z
LAST-MODIFIED:20211025T205207Z
UID:2940-1653523200-1653609599@mi-paddleadventure.com
SUMMARY:Paddlesports Safety Facilitator Certification
DESCRIPTION:
URL:https://mi-paddleadventure.com/trip/paddlesports-safety-facilitator-certification/
LOCATION:GoRec\, 4754 Scout Camp Rd\, Traverse City\, MI\, 49696\, United States
CATEGORIES:Day Trips,Great Lakes,Kayak Instruction
ATTACH;FMTTYPE=image/jpeg:https://mi-paddleadventure.com/wp-content/uploads/dog-paddle.jpg
END:VEVENT
END:VCALENDAR