BEGIN:VCALENDAR
VERSION:2.0
PRODID:-//Uncommon Adventures - ECPv6.15.20//NONSGML v1.0//EN
CALSCALE:GREGORIAN
METHOD:PUBLISH
X-WR-CALNAME:Uncommon Adventures
X-ORIGINAL-URL:https://mi-paddleadventure.com
X-WR-CALDESC:Events for Uncommon Adventures
REFRESH-INTERVAL;VALUE=DURATION:PT1H
X-Robots-Tag:noindex
X-PUBLISHED-TTL:PT1H
BEGIN:VTIMEZONE
TZID:UTC
BEGIN:STANDARD
TZOFFSETFROM:+0000
TZOFFSETTO:+0000
TZNAME:UTC
DTSTART:20250101T000000
END:STANDARD
END:VTIMEZONE
BEGIN:VEVENT
DTSTART;VALUE=DATE:20260514
DTEND;VALUE=DATE:20260518
DTSTAMP:20260424T141742
CREATED:20251001T181619Z
LAST-MODIFIED:20260417T134146Z
UID:4771-1778716800-1779062399@mi-paddleadventure.com
SUMMARY:Sleeping Bear Sampler Remix:  Learn to Kayak Boot Camp
DESCRIPTION:We’ve refined this program that has been popular for more than 10 years as a great way for people to explore kayaking or to refine current skills. Enjoy a weekend spent at our home on 40 acres of hardwoods along the beautiful Betsie River. This long weekend retreat will give you enough time to explore a number of our better local paddling opportunities. Each trip is a bit different and built around your interests and goals with built in flexibility. \nWe can mix and match some open water paddling instruction along the bluffs and dunes with some river paddling if that is what you are after. Eagles\, Osprey\, mink\, trout and bass are all resident members of the local wildlife population that we get to share our trips with. We can also see incredible dune faces\, cruising fish and possibly even some shipwrecks that can be seen from our kayaks on calm days. \nKayaking is one way to interact with water. There are a lot of different disciplines…whitewater\, simple small lake and river recreational kayaking\, sea kayaking\, surf kayaking\, Olympic slalom\, Greenland style traditional; hard to know what direction to go you have a better idea of what kind of kayaking you develop an interest in. You yourself probably won’t know until you get some time on the water. It’s a llfesport that can evolve as you do. We urge you not to invest too much in any sort of kayaking gear until you get some instructional time and you have a better sense of what style of paddling and venue you have available to you. You’ll make better purchase decisions. In addition to the beautiful scenery\, this program will introduce all styles and the commonalities between them\, but we do use primarily touring/sea kayaks in our programs. \n\nItinerary\nDay 1\nArrive after dinner between 7-8 PM. We’ll get acquainted\, settled and provide an orientation for the rest of the weekend. \nDay 2\nGet fitted for kayaks and gear and head to our inland lake training site for some hands-on skills. Learn forward\, back\, turning and sideways strokes as well as what to do when you capsize. Dinner BBQ here at Casa de Kayak followed by kayak videos\, tall tales and good night’s sleep. \nDay 3\nDepending on weather\, we’ll head north for a longer paddle to enjoy some dune and island views\, maybe a shipwreck and a swim. We’ll gather for dinner at a local restaurant/pub after we get off the water. Whether we’re in soggy sandals or wetsuits\, we’ll be welcome for some great food and drink after a good day of paddling. \nDay 4\nAfter a fine brunch\, we’ll gear up for a sweet little river trip through the backyard to give you a little moving water experience and balance out a weekend of grand vistas. We’ll turn you loose for home or other adventures at about 2 PM \n\n \n			\n				\n				\n				\n				\n				Dates for 2026\n\nMay 14 – May 17 ONLY CAMPING AVAILABLE – Bedrooms are full!\nMay 21 – May 24\n\n \nWhat’s Included:\n\nACA Qualified Instructors\nQuality on and off-water instruction\nKayak\, sprayskirts\, paddle\, and PFD (unless you choose to bring your own\nRustic river home accommodations or camping site (depending on registration)\nThree breakfasts\nTwo dinners (Plan to eat out at a local establishment one night)\n\n\nWhat’s Not Included and What You Should Bring:\n\nTransportation to the site\nFarmer John/Jane style wetsuit: for May/June/September/October\, can be rented from us for a flat rate of $20. Drysuit if you have one.\nSynthetic or wool long underwear: polypropylene\, polyester\, coolmax\, etc….anything but cotton\, both tops and bottoms\, can be worn under shorts too for a very comfortable if not very stylish ensemble.\nFleece jacket\nPaddling jacket or rain parka.\nNeoprene boots: We try to discourage sandals because they can get tangled in footrests….and that’s bad if you’re upside down.\nSunscreen\nSunhat\nReusable water bottle — please DO NOT bring single use plastic water bottles. \nLunch supplies (refrigerator available)\nSnacks\nAlcohol or preferred adult beverages\nOne dinner at a local establishment\nGuide Gratuity (Suggested 10%+ of course cost)\n\n\n			\n			\n				\n				\n				\n				\n				\n				\n				\n				\n				\n				\nRegistration\nNOTE: If a booking date shows on the calendar below\, there is space available but always feel free to
URL:https://mi-paddleadventure.com/trip/sleeping-bear-sampler-remix-learn-to-kayak-boot-camp-2/
LOCATION:Uncommon Adventures\, Street Address: 6721 Grace Rd\, Benzonia\, MI\, 49616\, United States
CATEGORIES:Great Lakes,Kayak Instruction,Lodge Based
ATTACH;FMTTYPE=image/jpeg:https://mi-paddleadventure.com/wp-content/uploads/IMG_3130.jpeg
ORGANIZER;CN="Uncommon Adventures":MAILTO:email
END:VEVENT
BEGIN:VEVENT
DTSTART;VALUE=DATE:20260521
DTEND;VALUE=DATE:20260525
DTSTAMP:20260424T141743
CREATED:20260205T154514Z
LAST-MODIFIED:20260417T134358Z
UID:7206-1779321600-1779667199@mi-paddleadventure.com
SUMMARY:Sleeping Bear Sampler Remix:  Learn to Kayak Boot Camp
DESCRIPTION:We’ve refined this program that has been popular for more than 10 years as a great way for people to explore kayaking or to refine current skills. Enjoy a weekend spent at our home on 40 acres of hardwoods along the beautiful Betsie River. This long weekend retreat will give you enough time to explore a number of our better local paddling opportunities. Each trip is a bit different and built around your interests and goals with built in flexibility. \nWe can mix and match some open water paddling instruction along the bluffs and dunes with some river paddling if that is what you are after. Eagles\, Osprey\, mink\, trout and bass are all resident members of the local wildlife population that we get to share our trips with. We can also see incredible dune faces\, cruising fish and possibly even some shipwrecks that can be seen from our kayaks on calm days. \nKayaking is one way to interact with water. There are a lot of different disciplines…whitewater\, simple small lake and river recreational kayaking\, sea kayaking\, surf kayaking\, Olympic slalom\, Greenland style traditional; hard to know what direction to go you have a better idea of what kind of kayaking you develop an interest in. You yourself probably won’t know until you get some time on the water. It’s a llfesport that can evolve as you do. We urge you not to invest too much in any sort of kayaking gear until you get some instructional time and you have a better sense of what style of paddling and venue you have available to you. You’ll make better purchase decisions. In addition to the beautiful scenery\, this program will introduce all styles and the commonalities between them\, but we do use primarily touring/sea kayaks in our programs. \n\nItinerary\nDay 1\nArrive after dinner between 7-8 PM. We’ll get acquainted\, settled and provide an orientation for the rest of the weekend. \nDay 2\nGet fitted for kayaks and gear and head to our inland lake training site for some hands-on skills. Learn forward\, back\, turning and sideways strokes as well as what to do when you capsize. Dinner BBQ here at Casa de Kayak followed by kayak videos\, tall tales and good night’s sleep. \nDay 3\nDepending on weather\, we’ll head north for a longer paddle to enjoy some dune and island views\, maybe a shipwreck and a swim. We’ll gather for dinner at a local restaurant/pub after we get off the water. Whether we’re in soggy sandals or wetsuits\, we’ll be welcome for some great food and drink after a good day of paddling. \nDay 4\nAfter a fine brunch\, we’ll gear up for a sweet little river trip through the backyard to give you a little moving water experience and balance out a weekend of grand vistas. We’ll turn you loose for home or other adventures at about 2 PM \n\n \n			\n				\n				\n				\n				\n				Dates for 2026\n\nMay 14 – May 17  Only Camping Available – bedrooms are full!  \nMay 21 – May 24\n\n \nWhat’s Included:\n\nACA Qualified Instructors\nQuality on and off-water instruction\nKayak\, sprayskirts\, paddle\, and PFD (unless you choose to bring your own\nRustic river home accommodations or camping site (depending on registration)\nThree breakfasts\nTwo dinners (Plan to eat out at a local establishment one night)\n\n\nWhat’s Not Included and What You Should Bring:\n\nTransportation to the site\nFarmer John/Jane style wetsuit: for May/June/September/October\, can be rented from us for a flat rate of $20. Drysuit if you have one.\nSynthetic or wool long underwear: polypropylene\, polyester\, coolmax\, etc….anything but cotton\, both tops and bottoms\, can be worn under shorts too for a very comfortable if not very stylish ensemble.\nFleece jacket\nPaddling jacket or rain parka.\nNeoprene boots: We try to discourage sandals because they can get tangled in footrests….and that’s bad if you’re upside down.\nSunscreen\nSunhat\nReusable water bottle — please DO NOT bring single use plastic water bottles. \nLunch supplies (refrigerator available)\nSnacks\nAlcohol or preferred adult beverages\nOne dinner at a local establishment\nGuide Gratuity (Suggested 10%+ of course cost)\n\n\n			\n			\n				\n				\n				\n				\n				\n				\n				\n				\n				\n				\nRegistration\nNOTE: If a booking date shows on the calendar below\, there is space available but always feel free to
URL:https://mi-paddleadventure.com/trip/sleeping-bear-sampler-remix-learn-to-kayak-boot-camp-2-2/
LOCATION:Uncommon Adventures\, Street Address: 6721 Grace Rd\, Benzonia\, MI\, 49616\, United States
CATEGORIES:Great Lakes,Kayak Instruction,Lodge Based
ATTACH;FMTTYPE=image/jpeg:https://mi-paddleadventure.com/wp-content/uploads/IMG_3130.jpeg
ORGANIZER;CN="Uncommon Adventures":MAILTO:email
END:VEVENT
BEGIN:VEVENT
DTSTART;VALUE=DATE:20260809
DTEND;VALUE=DATE:20260815
DTSTAMP:20260424T141743
CREATED:20251017T122657Z
LAST-MODIFIED:20260407T112638Z
UID:4819-1786233600-1786751999@mi-paddleadventure.com
SUMMARY:Keweenaw Rock Gardening ACA Paddlesports Guide Certification Program
DESCRIPTION:This new American Canoe Association Paddlesports Guide Certification is the most current multi-day guide certification available. The rocky Coastline of the Keweenaw peninsula allows for Level 3+ conditions\, crossings\, logistics planning\, group management\, campcraft\, cooking and a solid foundation for guiding work during this 6 day program.  Costs will be kept reasonable. Limited availability with small group learning. More information will be posted soon. Contact Michael Gray for more information. \nKeweenaw is said to be one of the most beautiful places on earth\, with miles of gorgeous landscapes and adventure around every corner. Lighthouses\, ruins\, waterfalls\, and hiking trails! \nThis is Michigan’s other Thumb\, dividing open waters of Lake Superior from Keweenaw Bay. Its crystal clear waters bounce around this rocky coast offering a seldom paddled opportunity to explore rock gardens\, waterfalls\, sea stacks and some remote camping. Who knew? Imagine a group of decent paddlers\, geared up for swims\, rescue practice and some tough plastic boats designed to bounce before they break and you get the picture. \nGreat paddling\, Superior camping\, whitefish dinners\, blueberries\, local craft brews… this is so not your average instructional program! Don’t forget the opportunity to learn how to provide great food either\, because that’s the only way we roll. \n\nItinerary\nDay 1\nArrive in Copper Harbor.  \nDays 2 – 5\nPaddle around the thumb\, camping en route (3 nights)\, explore the Keweenaw Peninsula\, Gull Island\, and/or Manitou Island\, weather permitting. Guides will develop meal plans and provide food for the group as well as learning guide skills inlcuding navigation\, logistics planning\, group camping\, etc. Return to Copper Harbor with a final dinner out at a local restaurant. \nDay 6\nHead out for drives home.\n \n\n			\n				\n				\n				\n				\n				Dates for 2026\nAugust 9 – August 14 \nWhat’s Included\n\nCost includes professional\, experienced ACA Certified Guide Trainer\nMost meals while on the trip\, except for your assigned meal day\n Campground Fees before and after the trip\nInstruction and feedback related to multi-day guiding\n All group gear (tents\, kitchen gear\, safety and camp gear)\nACA paperwork\n\nKayaking Equipment\nWe do not include kayaks on this trip because most paddlers at this level have their own. A playful plastic design between 14-16 feet is recommended for this trip for maximum fun… think Delphin or the like. If you don’t have a suitable boat\, we have a limited number of suitable kayaks (e.g.\, Delphins\, Dagger Stratos\, NDK Sportive or P&H Virgo) available for $200 rental. They include PFD\, Werner paddle\, helmet\, sprayskirt and pump. We will transport your rental boat for you. \nWhat’s Not Included\n\nTravel to and from the Keweenaw\nLodging the evenings before and after the trip\, if you choose to stay at a local hotel\nFood on the day of your assigned meals – you will be provided guidance for planning and delivering one day’s meal on the trip\nRestaurant meals before and after the trip\nKayak rental (If you are going to need a kayak\, you should add that as an add-on to your booking\, to be sure we have one for you.)\nPersonal Items: Be sure to review the  packing list:   It is important that you review this list early on in case you have questions or need to order gear. \nGuide gratuity (10% suggested) \nTravel Insurance\n\n			\n			\n				\n				\n				\n				\n				\n				\n				\n				\n				\n				\nRegistration\nNOTE: If a booking date shows on the calendar below\, there is space available but always feel free to
URL:https://mi-paddleadventure.com/trip/keweenaw-rock-gardening-aca-guide-certification/
LOCATION:Copper Harbor\, Michigan\, Copper Harbor\, MI\, United States
CATEGORIES:Camping Based,Great Lakes,Kayak Instruction,Multi-day Trips
ATTACH;FMTTYPE=image/jpeg:https://mi-paddleadventure.com/wp-content/uploads/IMG_3138.jpeg
ORGANIZER;CN="Uncommon Adventures":MAILTO:email
END:VEVENT
BEGIN:VEVENT
DTSTART;VALUE=DATE:20260911
DTEND;VALUE=DATE:20260922
DTSTAMP:20260424T141743
CREATED:20251120T190210Z
LAST-MODIFIED:20260215T181306Z
UID:6368-1789084800-1790035199@mi-paddleadventure.com
SUMMARY:Isle Royale Explorer Long Play
DESCRIPTION:We are going to strap our kayaks to the roof of a ferry\, motor over fifty miles out to the largest island in the largest lake in the world and go kayaking. This is not a small thing. \nSea Kayaking Isle Royale National Park on Lake Superior\nThis is a magical place wrapped up in ancient rock\, thimbleberries and the unforgiving waters of Lake Superior. This unique island park with its moose and wolves is a popular destination for backpackers\, but since it is an island we thought that it would make more sense to explore it by kayak! \nThere will be plenty of time for day hikes\, brisk swims\, good lake trout fishing\, kayaking and listening to the loons. Like you\, no two of these trips are the same. We plan these trips together with you based on the weather outlook\, personal tastes\, goals and skills. Our style is not to bag miles\, but to take a deep dive into Superior kayaking and the island’s nature AND culture. No one has guided more trips here than we have or developed deeper relationships with the park staff. \nNOTE: In many ways this trip is similar to our Explorer trip\, but this is MORE exploratory. Paddling skills for this will be on par with the Explorer option\, but this trip is longer\, with more flexible camping otpions and range further from our start point. Where we will get to and how long we spend in each place is based on weather… and whether we want to move or stay. Think flexible\, fun\, and more ambitious. This can be used as a Level 3 Trip Leader Training trip\, if so desired. \nTo ensure your safety and maintain the flexibility of small camps\, we limit this trip to only five participants. \nPaddling Skills\nIsle Royale Explorer trips are appropriate for intermediate paddlers – this means that you should be comfortable paddling 8-15 miles/day in 2-3 ft seas in up to 15 knots of wind and be familiar with group rescues. If you are not\, we do offer a number of weekend skills workshops to help you grow those skills.\n			\n				\n				\n				\n				\n				\nSample Itinerary for 11 Day trip\n(includes 2 travel days)\nDay 1: \nArrival Day in Copper Harbor. Rendezvous in Copper Harbor at 4:30 PM at the Minnetonka Resort for a quick backcountry packing orientation. \nDay 2\n7 AM meet-up at the dock of the Isle Royale Queen for the 3.5 hour ride to Rock Harbor. Organize and pack for the short paddle to the first campsite. \nDays 3-9\nThe heart of the trip–you’ll find yourself paddling an average of 4 or 5 hours/day sandwiched with day hikes\, fishing\, shooting photos\, looking for Moose and listening to the music of our largest freshwater sea. We may choose a layover at a particularly nice campsite to give us more time to explore and linger a bit. You should be prepared for temps between 40- 80…bring a wool hat and a swimsuit. We’ll be covering 60 to 100 miles total with some days being relaxing and some challenging. You can count on learning lots of new paddle skills and having a truly spectacular experience. \nDay 10\nIn the afternoon\, we’ll be ferried back to Copper Harbor for a last group dinner and a good night’s sleep at the Minnetonka. \nDay 11\nTravel day: you move on to your next adventure\, whether a drive home or an extended exploration of the fabulous Keweenaw Peninsula.\n \n			\n				\n				\n				\n				\n				Dates for 2026\n\nSeptember 11-21\n\nNote: These trips fill fast\, but we will have a wait list. Please call 248-224-1044 or email to check availability or to be wait-listed.\n\n\nWhat’s Included:\n\nOne night lodging before and one after in Copper Harbor (double occupancy – single occupancy rates available)\nRound-trip ferry for you & your kayak\nNational Park permits & daily user fee\nExpert sea kayak guides\nAll group gear (tents\, kitchen gear\, dry bags\, safety and camp gear)\nGourmet backcountry meals\n\nWhat’s Not Included\n\nTravel to/from Copper Harbor\nKayak rental (available—reserve early). If need a kayak\, please add that as an add-on to your booking\, to be sure we have one for you.\nPersonal Items: Be sure to review the packing list. It is important that you review this list early on in case you have questions or need to order gear.\nTravel Insurance (strongly recommended)\nGuide gratuities (10+% suggested)\n\nKayaking Equipment\nWe do not include kayaks on this trip because most paddlers at this level have their own. Your boat should be a touring kayak at least 16 feet long\, with front and rear bulkheads. High performance expedition-equipped rentals are available from us with prior reservation: They include PFD\, carbon hybrid paddle (Werner Shuna is our standard)\, sprayskirt and pump. We will transport your rental boat for you. We offer a variety of sizes and models from Current Designs\, Wilderness Systems and NDK…with drop skegs and day hatches. \nFAQs\nFrequently Asked Questions\n			\n			\n				\n				\n				\n				\n				\n				\n				\n				\n				\n				\nRegistration\nNOTE: If a booking date shows on the calendar below\, there is space available but always feel free to call or email with specific questions. If the trip is full and you’d like to be waitlisted\, give us a call.  \nReservations are held with a $500 deposit. The price below reflects the full amount\, including service fees; However\, your initial payment will be a $500 deposit (assuming you book 30+ days prior to the course). \nThe remaining amount due will be automatically charged to your credit card 30 days before the trip. \nNOTE: You must choose the date of the trip you want before clicking on BOOK NOW. Be sure you are on the right month! You may need to choose the fare you want and then zero out the fare that the system initially chooses. Let us know if you have any difficulty. \nWhat registration option should I choose?\n\nJoining by yourself? Choose Single Occupancy\nJoining as a couple or with a friend? Choose Double Occupancy\nJoining by yourself but willing to share a room? Choose Double Occupancy but realize we will adjust the price to single occupancy if we can’t find you a roommate.\n\nView our Refund / Cancellation Policy\nShopping for someone else? Buy a Gift Card!
URL:https://mi-paddleadventure.com/trip/isle-royale-explorer-long-play-2/
LOCATION:Isle Royale\, Isle Royale National Park\, Isle Royale\, MI\, United States
CATEGORIES:Camping Based,Great Lakes,Isle Royale,Kayak Instruction,Pinnacle Adventures
ATTACH;FMTTYPE=image/jpeg:https://mi-paddleadventure.com/wp-content/uploads/se-ak_0029_Layer-49.jpg
ORGANIZER;CN="Uncommon Adventures":MAILTO:email
END:VEVENT
BEGIN:VEVENT
DTSTART;VALUE=DATE:20261107
DTEND;VALUE=DATE:20261115
DTSTAMP:20260424T141743
CREATED:20241110T200407Z
LAST-MODIFIED:20251206T210308Z
UID:4545-1794009600-1794700799@mi-paddleadventure.com
SUMMARY:Ocean Skills Week (Tybee Island) with Optional Skills Assessments
DESCRIPTION:Whether your aim to is to notch your L3 or L4 skills assessment\, get more experience in conditions with people who really have your back or just want to get out and enjoy some spring paddling in bumpy water\, this trip is for you! Based out of a comfortable house base with great family meals right near the beach\, we will be able to take maximum advantage of whatever the elements throw our way. \nBecause this program is focused on a maximum of 8 paddlers with at least 2 and probably 3 well-qualified instructors (including some locals like Dale Williams and Kathryn Lapolla)\, you’ll get extremely personal coaching. Whether you’d like to really strengthen your bracing or your rescues in conditions or work on navigating tides and currents or all of the above\, we’ll build the week around your own development goals. With a small group and multiple instructors\, we can offer multiple options. If you’d prefer to fly into Savannah\, we can set you up with a fun rental boat like an NDK Sportive\, Sport\, or Romany\, or a P&H Delphin or Virgo for the week.  \nPrice includes lodging\, coaching and most meals…we’ll have a couple of meals out at local restaurants for fun and to support local businesses. \n\nItinerary\nDay 1\nArrival day: Check in after 3pm and get settled and oriented \nDays 2 – 7\nBracing\, surfing\, rescues in conditions\, tide and current practice\, basic navigation\, high speed heron ID\, oyster avoidance and the finer points of low country cuisine can and will be part of the menu in any measure that best suits your needs. \nDay 8\nCheck-out and head home\n \n			\n				\n				\n				\n				\n				Dates for 2026\nNovember 7 – 14  \nWhat’s included?\nPrice includes lodging\, coaching and most meals… we’ll have a couple of meals out at local restaurants for fun and to support local businesses.\n  NOTE: If you have a non-paddling spouse/partner/friend you’d like to bring along\, we have a Non-Paddler option that includes lodging and food. The house is in a good location to enjoy the local area and beaches! \nWhat’s Not Included and What You Should Bring\n\nTransportation to the site\n14’+ sea kayak with floatation fore and aft\, paddle\, pump\, sprayskirt\, towbelt\, compass (orienteering style)\, basic repair supplies. Let us know if you need to borrow an appropriate kayak and gear\, we have lots of different loaners available.\nFarmer John/Jane style wetsuit: for May/June/September/October/November. Can be rented from us for a flat rate of $25. Drysuit if you have one.\nSynthetic or wool long underwear: polypropylene\, polyester\, coolmax\, etc….anything but cotton\, both tops and bottoms\, can be worn under shorts too for a very comfortable if not very stylish ensemble.\nFleece jacket\nPaddling jacket or rain parka.\nNeoprene boots: We try to discourage sandals because they can get tangled in footrests….and that’s bad if you’re upside down.\nSunscreen\nSunhat\nReusable water bottle — please DO NOT bring single use plastic water bottles. \nSnacks\nAlcohol or preferred adult beverages\nTwo dinners at a local establishment\nGuide Gratuity (Suggested 10+% of trip cost)\n\n\n			\n			\n				\n				\n				\n				\n				\n				\n				\n				\n				\n				\nRegistration\nNOTE: If a booking date shows on the calendar below\, there is space available but always feel free to call or email with specific questions. If the trip is full and you’d like to be waitlisted\, give us a call.  \nReservations are held with a $500 deposit. The price below reflects the full amount\, including service fees; However\, your initial payment will be a $500 deposit (assuming you book 30+ days prior to the course). \nThe remaining amount due will be automatically charged to your credit card 30 days before the trip. \nNOTE: You must choose the date of the trip you want before clicking on BOOK NOW. Be sure you are on the right month! You may need to choose the fare you want and then zero out the fare that the system initially chooses. Let us know if you have any difficulty. \nWhat registration option should I choose?\n\nJoining by yourself? Choose Single Occupancy\nJoining as a couple or with a friend? Choose Double Occupancy\nJoining by yourself but willing to share a room? Choose Double Occupancy but realize we will adjust the price to single occupancy if we can’t find you a roommate.\n\nView our Refund / Cancellation Policy\nShopping for someone else? Buy a Gift Card!
URL:https://mi-paddleadventure.com/trip/ocean-skills-week-tybee-island-with-optional-skills-assessments/
LOCATION:Tybee Island\, Tybee Island\, GA\, United States
CATEGORIES:Kayak Instruction,Lodge Based,Southeastern US
ATTACH;FMTTYPE=image/jpeg:https://mi-paddleadventure.com/wp-content/uploads/IMG_1506.jpeg
ORGANIZER;CN="Uncommon Adventures":MAILTO:email
END:VEVENT
END:VCALENDAR