BEGIN:VCALENDAR
VERSION:2.0
PRODID:-//Uncommon Adventures - ECPv6.15.20//NONSGML v1.0//EN
CALSCALE:GREGORIAN
METHOD:PUBLISH
X-ORIGINAL-URL:https://mi-paddleadventure.com
X-WR-CALDESC:Events for Uncommon Adventures
REFRESH-INTERVAL;VALUE=DURATION:PT1H
X-Robots-Tag:noindex
X-PUBLISHED-TTL:PT1H
BEGIN:VTIMEZONE
TZID:UTC
BEGIN:STANDARD
TZOFFSETFROM:+0000
TZOFFSETTO:+0000
TZNAME:UTC
DTSTART:20250101T000000
END:STANDARD
END:VTIMEZONE
BEGIN:VEVENT
DTSTART;VALUE=DATE:20260611
DTEND;VALUE=DATE:20260623
DTSTAMP:20260424T141326
CREATED:20211026T153931Z
LAST-MODIFIED:20260130T181810Z
UID:2954-1781136000-1782172799@mi-paddleadventure.com
SUMMARY:SE Alaska’s Otter Coast Rainforest Expedition
DESCRIPTION:Note: This trip is FULL\nAfter over 40 years in business\, we have chosen to offer one pinnacle experience each season to a hand-picked team of explorers. Each of these trips will have an underlying goal of being the trip we always wanted to do. Last season was Greenland\, and this Alaskan Adventure is the next is this series of one-off top shelf experiences. \nThis remote kayak expedition originates in Sitka\, served by several flights a day from Seattle making it fairly easy to fly into. Remote multi-day kayak trips to this part of Alaska are very uncommon and feature some amazing tidal features\, animal life\, wild food foraging\, and pure wilderness. We have done four other shorter trips to this region the last few years and still haven’t encountered any other kayak groups. You will paddle with rafts of sea otters\, sea birds\, seals\, sea lions\, and humpback whales on water\, while on land we’ll encounter Sitka blacktail deer and talkative Ravens. This area is also home to large numbers of bald eagles and wild grizzly bears. Bears along this remote part of Alaska aren’t very interested in humans and always retreated into the dense forest whenever we’ve encountered them. \nIf your interests include navigation in areas where tidal currents rule days that are punctuated by fresh caught fish and huckleberry desserts\, then read further. To give the best shot at a beautiful wilderness experience\, we are paddling away from town on a one-way journey…with a boat pick-up scheduled at the end for your return to Sitka. We’re going to try to leave some time for foraging\, photos\, some fishing and perhaps a layover day. We’ll find ample freshwater along our route\, setting up comfortable camps with lots of tarps and we’ll work together on tactical bear hangs during this June trip\, which is one of the least rainy months. \nWe start by hand picking a group of 4-6 paddlers and outfit them with excellent expedition gear ready for any weather. Level 3 skills are pretty much the baseline to expect: ability to paddle in 10-15 kt of wind\, 2 kts current and 1-3 ft waves. Next\, we provision with real food\, bombproof tents and full-on safety gear. Michael\, an ACA certified Instructor Trainer and Lisa\, a British Canoe Sea Leader will be your guides for a truly personal experience. You can even be assessed for your ACA L-3 or L-4 skills at the end of this trip if you wish. This is a great opportunity for participants looking for ACA guide training/assessment as well (only one spot). \n\nItinerary\nDay 1\nArrival in Sitka. Meet up for dinner and overnight (lodging included). \nDay 2\nOrientation Day: Provision\, pack\, prepare\, and plan. Overnight in Sitka (lodging included) \nDays 3 – 10\nLeaving from Sitka\, we paddle out to a first night camp and continue through a labyrinth of islands as we get more remote. We’ll invest our time in exploring nooks and crannies\, tide races\, river mouths (fishing for salmon anyone?)\, mussel beds\, foraging for wild huckleberries\, salmonberries and enjoying fresh rockfish for dinner\, paddling wide open spaces and narrow channels. Expect to share this experience with humpback whales\, sea otters\, brown bears\, sea lions\, eagles\, ospreys\, seals\, mink\, and a variety of other wild creatures that call this remote wilderness home. \nDay 11\nBoat pick-up to transfer back to Sitka\, hot showers\, clean sheets\, and a dinner out. (lodging included) \nDay 12\nFlights home or transfer to your own extended adventure!\n \n\n			\n				\n				\n				\n				\n				Dates for 2026\n\nJune 11 – 22\n\nNote: This trip is FULL\n\n\nWhat’s Included\n\nTwo nights pre-trip and one night post trip lodging\nKayaks\nBoat shuttle\nPermits\, guides\, safety and group gear\nCamping gear\nthe best backcountry food in the business.\n\nWhat’s Not Included\n\nAirfare to and from Sitka\nGuide gratuities (suggested 10%)\nAirport transfers\n\nWhat to Bring\n\nPacking List\n\n			\n			\n				\n				\n				\n				\n				\n				\n				\n				\n				\n				\nRegistration\nNOTE: If a booking date shows on the calendar below\, there is space available but always feel free to call or email with specific questions. If the trip is full and you’d like to be waitlisted\, give us a call.  \nReservations are held with a $1000 deposit. The price below reflects the full amount\, including service fees; However\, your initial payment will be a $1000 deposit (assuming you book 90+ days prior to the course). \nThe remaining amount due will be automatically charged to your credit card 90 days before the trip. \nNOTE: You must choose the date of the trip you want before clicking on BOOK NOW. Be sure you are on the right month! You may need to choose the fare you want and then zero out the fare that the system initially chooses. Let us know if you have any difficulty. \nWhat registration option should I choose?\n\nJoining by yourself? Choose Single Occupancy\nJoining as a couple or with a friend? Choose Double Occupancy\nJoining by yourself but willing to share a room? Choose Double Occupancy but realize we will adjust the price to single occupancy if we can’t find you a roommate.\n\nView our Refund / Cancellation Policy\nShopping for someone else? Buy a Gift Card!
URL:https://mi-paddleadventure.com/trip/paddling-sitkas-otter-coast-the-chichagof-wilderness-2/
LOCATION:Chichagof Wilderness\, Sitka\, United States
CATEGORIES:Alaska,Bucket List Trips,Camping Based,Multi-day Trips,Pinnacle Adventures
ATTACH;FMTTYPE=image/jpeg:https://mi-paddleadventure.com/wp-content/uploads/otter.jpg
ORGANIZER;CN="Uncommon Adventures":MAILTO:email
END:VEVENT
BEGIN:VEVENT
DTSTART;VALUE=DATE:20260911
DTEND;VALUE=DATE:20260922
DTSTAMP:20260424T141326
CREATED:20251120T190210Z
LAST-MODIFIED:20260215T181306Z
UID:6368-1789084800-1790035199@mi-paddleadventure.com
SUMMARY:Isle Royale Explorer Long Play
DESCRIPTION:We are going to strap our kayaks to the roof of a ferry\, motor over fifty miles out to the largest island in the largest lake in the world and go kayaking. This is not a small thing. \nSea Kayaking Isle Royale National Park on Lake Superior\nThis is a magical place wrapped up in ancient rock\, thimbleberries and the unforgiving waters of Lake Superior. This unique island park with its moose and wolves is a popular destination for backpackers\, but since it is an island we thought that it would make more sense to explore it by kayak! \nThere will be plenty of time for day hikes\, brisk swims\, good lake trout fishing\, kayaking and listening to the loons. Like you\, no two of these trips are the same. We plan these trips together with you based on the weather outlook\, personal tastes\, goals and skills. Our style is not to bag miles\, but to take a deep dive into Superior kayaking and the island’s nature AND culture. No one has guided more trips here than we have or developed deeper relationships with the park staff. \nNOTE: In many ways this trip is similar to our Explorer trip\, but this is MORE exploratory. Paddling skills for this will be on par with the Explorer option\, but this trip is longer\, with more flexible camping otpions and range further from our start point. Where we will get to and how long we spend in each place is based on weather… and whether we want to move or stay. Think flexible\, fun\, and more ambitious. This can be used as a Level 3 Trip Leader Training trip\, if so desired. \nTo ensure your safety and maintain the flexibility of small camps\, we limit this trip to only five participants. \nPaddling Skills\nIsle Royale Explorer trips are appropriate for intermediate paddlers – this means that you should be comfortable paddling 8-15 miles/day in 2-3 ft seas in up to 15 knots of wind and be familiar with group rescues. If you are not\, we do offer a number of weekend skills workshops to help you grow those skills.\n			\n				\n				\n				\n				\n				\nSample Itinerary for 11 Day trip\n(includes 2 travel days)\nDay 1: \nArrival Day in Copper Harbor. Rendezvous in Copper Harbor at 4:30 PM at the Minnetonka Resort for a quick backcountry packing orientation. \nDay 2\n7 AM meet-up at the dock of the Isle Royale Queen for the 3.5 hour ride to Rock Harbor. Organize and pack for the short paddle to the first campsite. \nDays 3-9\nThe heart of the trip–you’ll find yourself paddling an average of 4 or 5 hours/day sandwiched with day hikes\, fishing\, shooting photos\, looking for Moose and listening to the music of our largest freshwater sea. We may choose a layover at a particularly nice campsite to give us more time to explore and linger a bit. You should be prepared for temps between 40- 80…bring a wool hat and a swimsuit. We’ll be covering 60 to 100 miles total with some days being relaxing and some challenging. You can count on learning lots of new paddle skills and having a truly spectacular experience. \nDay 10\nIn the afternoon\, we’ll be ferried back to Copper Harbor for a last group dinner and a good night’s sleep at the Minnetonka. \nDay 11\nTravel day: you move on to your next adventure\, whether a drive home or an extended exploration of the fabulous Keweenaw Peninsula.\n \n			\n				\n				\n				\n				\n				Dates for 2026\n\nSeptember 11-21\n\nNote: These trips fill fast\, but we will have a wait list. Please call 248-224-1044 or email to check availability or to be wait-listed.\n\n\nWhat’s Included:\n\nOne night lodging before and one after in Copper Harbor (double occupancy – single occupancy rates available)\nRound-trip ferry for you & your kayak\nNational Park permits & daily user fee\nExpert sea kayak guides\nAll group gear (tents\, kitchen gear\, dry bags\, safety and camp gear)\nGourmet backcountry meals\n\nWhat’s Not Included\n\nTravel to/from Copper Harbor\nKayak rental (available—reserve early). If need a kayak\, please add that as an add-on to your booking\, to be sure we have one for you.\nPersonal Items: Be sure to review the packing list. It is important that you review this list early on in case you have questions or need to order gear.\nTravel Insurance (strongly recommended)\nGuide gratuities (10+% suggested)\n\nKayaking Equipment\nWe do not include kayaks on this trip because most paddlers at this level have their own. Your boat should be a touring kayak at least 16 feet long\, with front and rear bulkheads. High performance expedition-equipped rentals are available from us with prior reservation: They include PFD\, carbon hybrid paddle (Werner Shuna is our standard)\, sprayskirt and pump. We will transport your rental boat for you. We offer a variety of sizes and models from Current Designs\, Wilderness Systems and NDK…with drop skegs and day hatches. \nFAQs\nFrequently Asked Questions\n			\n			\n				\n				\n				\n				\n				\n				\n				\n				\n				\n				\nRegistration\nNOTE: If a booking date shows on the calendar below\, there is space available but always feel free to call or email with specific questions. If the trip is full and you’d like to be waitlisted\, give us a call.  \nReservations are held with a $500 deposit. The price below reflects the full amount\, including service fees; However\, your initial payment will be a $500 deposit (assuming you book 30+ days prior to the course). \nThe remaining amount due will be automatically charged to your credit card 30 days before the trip. \nNOTE: You must choose the date of the trip you want before clicking on BOOK NOW. Be sure you are on the right month! You may need to choose the fare you want and then zero out the fare that the system initially chooses. Let us know if you have any difficulty. \nWhat registration option should I choose?\n\nJoining by yourself? Choose Single Occupancy\nJoining as a couple or with a friend? Choose Double Occupancy\nJoining by yourself but willing to share a room? Choose Double Occupancy but realize we will adjust the price to single occupancy if we can’t find you a roommate.\n\nView our Refund / Cancellation Policy\nShopping for someone else? Buy a Gift Card!
URL:https://mi-paddleadventure.com/trip/isle-royale-explorer-long-play-2/
LOCATION:Isle Royale\, Isle Royale National Park\, Isle Royale\, MI\, United States
CATEGORIES:Camping Based,Great Lakes,Isle Royale,Kayak Instruction,Pinnacle Adventures
ATTACH;FMTTYPE=image/jpeg:https://mi-paddleadventure.com/wp-content/uploads/se-ak_0029_Layer-49.jpg
ORGANIZER;CN="Uncommon Adventures":MAILTO:email
END:VEVENT
BEGIN:VEVENT
DTSTART;VALUE=DATE:20270228
DTEND;VALUE=DATE:20270305
DTSTAMP:20260424T141326
CREATED:20260331T164940Z
LAST-MODIFIED:20260418T110127Z
UID:7328-1803772800-1804204799@mi-paddleadventure.com
SUMMARY:Tasmania: Three Capes Lodge-Based Private Trip
DESCRIPTION:Where on earth can you go kayaking with whales and seals and then go hiking with Kangaroos\, Wallabies and Wombats? Tasmania\, of course! This southernmost island state of Australia has an amazing topography and stunning coastline of rocky promontories broken up by sand beaches. It is truly one of most breathtaking coastlines we have ever seen with relatively warm seas and amazingly pleasant temperate weather.  Combine this with a rich local food and wine culture and an outdoor focused population you really have a recipe for a great adventure. \nWe are joining forces with Southern Sea Ventures to bring this private trip for Uncommon Adventures.  Although they normally try to book 10-12 people in tandems\, this trip for us is designed for 6-8 people primarily focused on single kayaks (tandems available on request).  We are also cherry picking the sweet spot of the season away from the summer crowds. This trip is based out of a nice private lodge with guides providing meals along the way. \n			\n				\n				\n				\n				\n				\n5-Day Itinerary\n(1 travel days included)\nDay 1\nArrival Day…make your own way to the group hotel in central Hobart \nDay 2\nMeet your kayak guide for the transfer to the Tasman Peninsula. The adventure begins with a short paddle to Port Arthur historic site\, where we experience a unique view from the water. Continuing our paddles south\, we pass dramatic cliﬀs and sandy beaches before finishing at Safety Cove. Transfer to our private lodge\, home for the next three nights. \nDay 3\nToday’s paddle is towards Cape Hauy\, one of the highlights of the Three Capes Track. If the weather allows\, we’ll paddle to the base of the Candle Stick\, a mecca for rock climbers from around the world. Located nearby is a seal haul-out where we can pause while Australian fur seals play around us. Returning to the shelter of the bay\, we explore hidden coves before heading back to the lodge. \nDay 4\nToday we explore Lime Bay Coastal Reserve\, taking in pretty lagoons\, eucalypt woodlands and convict history. On our northwards paddle\, we pass delicate sandstone cliﬀs and sandy beaches\, spotting stingrays and sea eagles along the way. Transfer back to the lodge for a last-night celebration dinner. \nDay 5\nThis morning\, we launch the kayaks from the shelter of Pirates Bay and experience true ocean kayaking as we paddle south past the Tasman Arch and Blowhole. Towering sea cliffs\, deep sea caves and abundant marine life are highlights of today’s paddle. \n\n			\n				\n				\n				\n				\n				Dates for 2027\n\nFebruary 28 – March 4\, 2027\n\nWhat’s Included\n\nOne night’s accommodation in Hobart on the first night (Double Occupancy)\nThree nights lodge-based accommodation on the Tasman Peninsula (Double Occupancy)\nAll meals from breakfast on Day 2 to lunch on Day 5-with an emphasis on fresh and local produce\nWorld class kayak guides\nAll kayak and safety equipment\nComplimentary selection of local wine\, beer\, cider\, and soft drinks each evening\nAll transportation between Hobart city and the Tasman Peninsula.\nLogistical assistance\n\nWhat’s Not Included\n\nGuide gratuity (5-10% suggested)\nTransportation to and from Hobart\nMeals in Hobart (except breakfast at the hotel on Day 2)\nSingle room supplements\nPost trip lodging and activities\nItems of a personal nature\nTravel Insurance (Very highly recommended – we recommend you look at World Nomads\, Allianz\, Travel Guard – and make sure it covers adventure sports)\n\n			\n			\n				\n				\n				\n				\n				\n				\n				\n				\n				\n				\nRegistration\nNOTE: If a booking date shows on the calendar below\, there is space available but always feel free to call or email with specific questions. If the trip is full and you’d like to be waitlisted\, give us a call.  \nReservations are held with a $1000 deposit. The price below reflects the full amount\, including service fees; However\, your initial payment will be a $1000 deposit (assuming you book 90+ days prior to the course). \nThe remaining amount due will be automatically charged to your credit card 90 days before the trip. \nNOTE: You must choose the date of the trip you want before clicking on BOOK NOW. Be sure you are on the right month! You may need to choose the fare you want and then zero out the fare that the system initially chooses. Let us know if you have any difficulty. \nWhat registration option should I choose?\n\nJoining by yourself? Choose Single Occupancy\nJoining as a couple or with a friend? Choose Double Occupancy\nJoining by yourself but willing to share a room? Choose Double Occupancy but realize we will adjust the price to single occupancy if we can’t find you a roommate.\n\nView our Refund / Cancellation Policy\nShopping for someone else? Buy a Gift Card!
URL:https://mi-paddleadventure.com/trip/tasmania/
LOCATION:Hobart\, Tasmania\, Australia
CATEGORIES:Bucket List Trips,Lodge Based,Pinnacle Adventures
ATTACH;FMTTYPE=image/jpeg:https://mi-paddleadventure.com/wp-content/uploads/IMG_1020-Medium.jpeg
ORGANIZER;CN="Uncommon Adventures":MAILTO:email
END:VEVENT
END:VCALENDAR